BEGIN:VCALENDAR
VERSION:2.0
PRODID:-//hacksw/handcal//NONSGML v1.0//EN
CALSCALE:GREGORIAN
BEGIN:VEVENT
DTSTART:20250721T215900Z
DTEND:20250721T225900Z
UID:124368-opensimworld.com
DTSTAMP:20260424T024745Z
LOCATION:dark-heaven.eu:8002:GOLDENROCK
URL;VALUE=URI: http://opensimworld.com/event/124368
SUMMARY:tonite 20.00 cet 3 pm slt open end    kenny  goes wild   at  golden rock  
END:VEVENT
END:VCALENDAR