BEGIN:VCALENDAR
VERSION:2.0
PRODID:-//hacksw/handcal//NONSGML v1.0//EN
CALSCALE:GREGORIAN
BEGIN:VEVENT
DTSTART:20250721T205900Z
DTEND:20250721T215900Z
UID:124367-opensimworld.com
DTSTAMP:20260424T024747Z
LOCATION:dark-heaven.eu:8002:GOLDENROCK
URL;VALUE=URI: http://opensimworld.com/event/124367
SUMMARY:tonite   20.00  cet   noon  slt      kenny  goes  wild  at  goldenrock   your  taxi : dark-heaven.eu:8002:GOLDENROCK
END:VEVENT
END:VCALENDAR