BEGIN:VCALENDAR
VERSION:2.0
PRODID:-//hacksw/handcal//NONSGML v1.0//EN
CALSCALE:GREGORIAN
BEGIN:VEVENT
DTSTART:20250721T175900Z
DTEND:20250721T185900Z
UID:124366-opensimworld.com
DTSTAMP:20260424T024750Z
LOCATION:dark-heaven.eu:8002:GOLDENROCK
URL;VALUE=URI: http://opensimworld.com/event/124366
SUMMARY:tonite   20.00  cet   11  am slt    KENNY  GOES  WILD   open end       your  taxi : dark-heaven.eu:8002:GOLDENROCK
END:VEVENT
END:VCALENDAR