BEGIN:VCALENDAR
VERSION:2.0
PRODID:-//hacksw/handcal//NONSGML v1.0//EN
CALSCALE:GREGORIAN
BEGIN:VEVENT
DTSTART:20250720T100000Z
DTEND:20250720T110000Z
UID:124298-opensimworld.com
DTSTAMP:20260424T130648Z
LOCATION:dark-heaven.eu:8002:GOLDENROCK
URL;VALUE=URI: http://opensimworld.com/event/124298
SUMMARY:Frühshoppen   sundays  breakfast hop    on air  DJ   KENNY    
END:VEVENT
END:VCALENDAR