BEGIN:VCALENDAR
VERSION:2.0
PRODID:-//hacksw/handcal//NONSGML v1.0//EN
CALSCALE:GREGORIAN
BEGIN:VEVENT
DTSTART:20250720T080000Z
DTEND:20250720T090000Z
UID:124297-opensimworld.com
DTSTAMP:20260424T130647Z
LOCATION:dark-heaven.eu:8002:GOLDENROCK
URL;VALUE=URI: http://opensimworld.com/event/124297
SUMMARY:breakfast hop   frühshoppen mit DJ  KENNY   Kenneth   macshine  start  10.00  cet   1 am  slt    at  goldenrock  
END:VEVENT
END:VCALENDAR