BEGIN:VCALENDAR
VERSION:2.0
PRODID:-//hacksw/handcal//NONSGML v1.0//EN
CALSCALE:GREGORIAN
BEGIN:VEVENT
DTSTART:20250729T010000Z
DTEND:20250729T020000Z
UID:124259-opensimworld.com
DTSTAMP:20260423T055716Z
LOCATION:wyldwoodbayou.com:8002:Wyldwood Bayou Hot Daddys
URL;VALUE=URI: http://opensimworld.com/event/124259
SUMMARY:DJ Kith Spins a Rock & Pop Roundup Tonight at Hot Daddy’s 6-8PM
END:VEVENT
END:VCALENDAR