BEGIN:VCALENDAR
VERSION:2.0
PRODID:-//hacksw/handcal//NONSGML v1.0//EN
CALSCALE:GREGORIAN
BEGIN:VEVENT
DTSTART:20250714T230000Z
DTEND:20250715T000000Z
UID:124061-opensimworld.com
DTSTAMP:20260425T131857Z
LOCATION:hg.carnivalegrid.com:8002:Magicland
URL;VALUE=URI: http://opensimworld.com/event/124061
SUMMARY:FREE MOVIE: Jurassic Park
END:VEVENT
END:VCALENDAR