BEGIN:VCALENDAR
VERSION:2.0
PRODID:-//hacksw/handcal//NONSGML v1.0//EN
CALSCALE:GREGORIAN
BEGIN:VEVENT
DTSTART:20250714T210000Z
DTEND:20250714T220000Z
UID:124060-opensimworld.com
DTSTAMP:20260425T131857Z
LOCATION:hg.carnivalegrid.com:8002:Magicland
URL;VALUE=URI: http://opensimworld.com/event/124060
SUMMARY:FREE MOVIE: Clueless
END:VEVENT
END:VCALENDAR