BEGIN:VCALENDAR
VERSION:2.0
PRODID:-//hacksw/handcal//NONSGML v1.0//EN
CALSCALE:GREGORIAN
BEGIN:VEVENT
DTSTART:20250713T170000Z
DTEND:20250713T180000Z
UID:124020-opensimworld.com
DTSTAMP:20260420T010504Z
LOCATION:hg.osgrid.org:80:Burning Rose
URL;VALUE=URI: http://opensimworld.com/event/124020
SUMMARY:best of the best
END:VEVENT
END:VCALENDAR