BEGIN:VCALENDAR
VERSION:2.0
PRODID:-//hacksw/handcal//NONSGML v1.0//EN
CALSCALE:GREGORIAN
BEGIN:VEVENT
DTSTART:20250713T080000Z
DTEND:20250713T090000Z
UID:124011-opensimworld.com
DTSTAMP:20260423T055714Z
LOCATION:alternatemetaverse.com:8002:Skinny Dip Beach
URL;VALUE=URI: http://opensimworld.com/event/124011
SUMMARY:Beach Party
END:VEVENT
END:VCALENDAR