BEGIN:VCALENDAR
VERSION:2.0
PRODID:-//hacksw/handcal//NONSGML v1.0//EN
CALSCALE:GREGORIAN
BEGIN:VEVENT
DTSTART:20250712T230000Z
DTEND:20250713T000000Z
UID:123927-opensimworld.com
DTSTAMP:20260420T190449Z
LOCATION:mk3.org:5002:ESC
URL;VALUE=URI: http://opensimworld.com/event/123927
SUMMARY:Elite Sex Club Grand Opening Event 4pm - 10pm
END:VEVENT
END:VCALENDAR