BEGIN:VCALENDAR
VERSION:2.0
PRODID:-//hacksw/handcal//NONSGML v1.0//EN
CALSCALE:GREGORIAN
BEGIN:VEVENT
DTSTART:20250708T050000Z
DTEND:20250708T060000Z
UID:123816-opensimworld.com
DTSTAMP:20260424T174231Z
LOCATION:hop:80:
URL;VALUE=URI: http://opensimworld.com/event/123816
SUMMARY:Patio de los Amigos
END:VEVENT
END:VCALENDAR