BEGIN:VCALENDAR
VERSION:2.0
PRODID:-//hacksw/handcal//NONSGML v1.0//EN
CALSCALE:GREGORIAN
BEGIN:VEVENT
DTSTART:20250707T210000Z
DTEND:20250707T220000Z
UID:123798-opensimworld.com
DTSTAMP:20260425T131904Z
LOCATION:hg.carnivalegrid.com:8002:Magicland
URL;VALUE=URI: http://opensimworld.com/event/123798
SUMMARY:FREE MOVIE: Blank Check
END:VEVENT
END:VCALENDAR