BEGIN:VCALENDAR
VERSION:2.0
PRODID:-//hacksw/handcal//NONSGML v1.0//EN
CALSCALE:GREGORIAN
BEGIN:VEVENT
DTSTART:20250707T210000Z
DTEND:20250707T220000Z
UID:123796-opensimworld.com
DTSTAMP:20260424T024753Z
LOCATION:dark-heaven.eu:8002:GOLDENROCK
URL;VALUE=URI: http://opensimworld.com/event/123796
SUMMARY:MONDAY  MADNESS AT GOLDEN ROCK WITH DJ KENNY open end party 11:00am slt 20,0 cet kenneth macshane live on air
END:VEVENT
END:VCALENDAR