BEGIN:VCALENDAR
VERSION:2.0
PRODID:-//hacksw/handcal//NONSGML v1.0//EN
CALSCALE:GREGORIAN
BEGIN:VEVENT
DTSTART:20250707T200000Z
DTEND:20250707T210000Z
UID:123795-opensimworld.com
DTSTAMP:20260424T024753Z
LOCATION:dark-heaven.eu:8002:GOLDENROCK
URL;VALUE=URI: http://opensimworld.com/event/123795
SUMMARY:MADNESS  AT  GOLDEN ROCK  WITH   DJ  KENNY   open  end       party  
END:VEVENT
END:VCALENDAR