BEGIN:VCALENDAR
VERSION:2.0
PRODID:-//hacksw/handcal//NONSGML v1.0//EN
CALSCALE:GREGORIAN
BEGIN:VEVENT
DTSTART:20250707T175900Z
DTEND:20250707T185900Z
UID:123792-opensimworld.com
DTSTAMP:20260424T024752Z
LOCATION:dark-heaven.eu:8002:GOLDENROCK
URL;VALUE=URI: http://opensimworld.com/event/123792
SUMMARY:MONDAY  MADNESS  11:00am  slt 20,00  CET   DJ  KENNETH  MCSHANE  LIVE ON AIR    OPENEND  PARTY  
END:VEVENT
END:VCALENDAR