BEGIN:VCALENDAR
VERSION:2.0
PRODID:-//hacksw/handcal//NONSGML v1.0//EN
CALSCALE:GREGORIAN
BEGIN:VEVENT
DTSTART:20250706T180000Z
DTEND:20250706T190000Z
UID:123734-opensimworld.com
DTSTAMP:20260420T010508Z
LOCATION:hg.osgrid.org:80:Burning Rose
URL;VALUE=URI: http://opensimworld.com/event/123734
SUMMARY:best of the best
END:VEVENT
END:VCALENDAR