BEGIN:VCALENDAR
VERSION:2.0
PRODID:-//hacksw/handcal//NONSGML v1.0//EN
CALSCALE:GREGORIAN
BEGIN:VEVENT
DTSTART:20250630T210000Z
DTEND:20250630T220000Z
UID:123509-opensimworld.com
DTSTAMP:20260425T131858Z
LOCATION:hg.carnivalegrid.com:8002:Magicland
URL;VALUE=URI: http://opensimworld.com/event/123509
SUMMARY:FREE MOVIE: The Day the Earth Blew Up (Looney Tunes)
END:VEVENT
END:VCALENDAR