BEGIN:VCALENDAR
VERSION:2.0
PRODID:-//hacksw/handcal//NONSGML v1.0//EN
CALSCALE:GREGORIAN
BEGIN:VEVENT
DTSTART:20250701T010000Z
DTEND:20250701T020000Z
UID:123433-opensimworld.com
DTSTAMP:20260423T055710Z
LOCATION:wyldwoodbayou.com:8002:Wyldwood Bayou Hot Daddys
URL;VALUE=URI: http://opensimworld.com/event/123433
SUMMARY:It’s a DJ Kith Road Trip to the WWB RP Hub “Not Yo Momma\'s Renfaire” 6-8PM
END:VEVENT
END:VCALENDAR