BEGIN:VCALENDAR
VERSION:2.0
PRODID:-//hacksw/handcal//NONSGML v1.0//EN
CALSCALE:GREGORIAN
BEGIN:VEVENT
DTSTART:20250623T210000Z
DTEND:20250623T220000Z
UID:123299-opensimworld.com
DTSTAMP:20260424T130655Z
LOCATION:dark-heaven.eu:8002:GOLDENROCK
URL;VALUE=URI: http://opensimworld.com/event/123299
SUMMARY:14:00slt  23.00cet  /  europe        good   mood tunes     Kenneth MacShane  Life   at    GoldenRock  open end   Event
END:VEVENT
END:VCALENDAR