BEGIN:VCALENDAR
VERSION:2.0
PRODID:-//hacksw/handcal//NONSGML v1.0//EN
CALSCALE:GREGORIAN
BEGIN:VEVENT
DTSTART:20250623T190000Z
DTEND:20250623T200000Z
UID:123297-opensimworld.com
DTSTAMP:20260424T130647Z
LOCATION:dark-heaven.eu:8002:GOLDENROCK
URL;VALUE=URI: http://opensimworld.com/event/123297
SUMMARY: party  time with  KennethMacShane   noon slt  21:00europe 
END:VEVENT
END:VCALENDAR