BEGIN:VCALENDAR
VERSION:2.0
PRODID:-//hacksw/handcal//NONSGML v1.0//EN
CALSCALE:GREGORIAN
BEGIN:VEVENT
DTSTART:20250623T180000Z
DTEND:20250623T190000Z
UID:123295-opensimworld.com
DTSTAMP:20260424T130650Z
LOCATION:dark-heaven.eu:8002:GOLDENROCK
URL;VALUE=URI: http://opensimworld.com/event/123295
SUMMARY:11:00slt  20:00cet  /  europe        good   mood tunes     Kenneth MacShane  Life   at    GoldenRock  
END:VEVENT
END:VCALENDAR