BEGIN:VCALENDAR
VERSION:2.0
PRODID:-//hacksw/handcal//NONSGML v1.0//EN
CALSCALE:GREGORIAN
BEGIN:VEVENT
DTSTART:20250622T180000Z
DTEND:20250622T190000Z
UID:123231-opensimworld.com
DTSTAMP:20260421T060249Z
LOCATION:ladysdreamworld.opensim.fun:8002:Dream High Fly High Club
URL;VALUE=URI: http://opensimworld.com/event/123231
SUMMARY:best of the best
END:VEVENT
END:VCALENDAR