BEGIN:VCALENDAR
VERSION:2.0
PRODID:-//hacksw/handcal//NONSGML v1.0//EN
CALSCALE:GREGORIAN
BEGIN:VEVENT
DTSTART:20250622T090000Z
DTEND:20250622T100000Z
UID:123185-opensimworld.com
DTSTAMP:20260423T075723Z
LOCATION:alternatemetaverse.com:8002:Skinny Dip Beach
URL;VALUE=URI: http://opensimworld.com/event/123185
SUMMARY:Skinny Dip Beach Party
END:VEVENT
END:VCALENDAR