BEGIN:VCALENDAR
VERSION:2.0
PRODID:-//hacksw/handcal//NONSGML v1.0//EN
CALSCALE:GREGORIAN
BEGIN:VEVENT
DTSTART:20250609T210000Z
DTEND:20250609T220000Z
UID:122759-opensimworld.com
DTSTAMP:20260424T130646Z
LOCATION:dark-heaven.eu:8002:GOLDENROCK
URL;VALUE=URI: http://opensimworld.com/event/122759
SUMMARY:party  goeing  on 14 00slt 23 00 cet  europe  Kenneth MacShanes  crazy  mix  all genrews  all times  
END:VEVENT
END:VCALENDAR