BEGIN:VCALENDAR
VERSION:2.0
PRODID:-//hacksw/handcal//NONSGML v1.0//EN
CALSCALE:GREGORIAN
BEGIN:VEVENT
DTSTART:20250609T200000Z
DTEND:20250609T210000Z
UID:122758-opensimworld.com
DTSTAMP:20260424T130646Z
LOCATION:dark-heaven.eu:8002:GOLDENROCK
URL;VALUE=URI: http://opensimworld.com/event/122758
SUMMARY:halftime  KENNETH  MacShane  on  air   1pm slt  2200europe 
END:VEVENT
END:VCALENDAR