BEGIN:VCALENDAR
VERSION:2.0
PRODID:-//hacksw/handcal//NONSGML v1.0//EN
CALSCALE:GREGORIAN
BEGIN:VEVENT
DTSTART:20250609T190000Z
DTEND:20250609T200000Z
UID:122757-opensimworld.com
DTSTAMP:20260424T130646Z
LOCATION:dark-heaven.eu:8002:GOLDENROCK
URL;VALUE=URI: http://opensimworld.com/event/122757
SUMMARY:kenny   keeps  on partying   noonslt  2100 europe 
END:VEVENT
END:VCALENDAR