BEGIN:VCALENDAR
VERSION:2.0
PRODID:-//hacksw/handcal//NONSGML v1.0//EN
CALSCALE:GREGORIAN
BEGIN:VEVENT
DTSTART:20250609T180000Z
DTEND:20250609T190000Z
UID:122756-opensimworld.com
DTSTAMP:20260424T130646Z
LOCATION:dark-heaven.eu:8002:GOLDENROCK
URL;VALUE=URI: http://opensimworld.com/event/122756
SUMMARY:party  time with  kenneth  mac h shane   11am slt  20,00 europehave  a  little  rest   am honored if u be  my guest this    should be  your  focus   music  around the  globus  dont get  in rage  ,  ill play  music  for  almost all  age    if  u  wear  more
END:VEVENT
END:VCALENDAR