BEGIN:VCALENDAR
VERSION:2.0
PRODID:-//hacksw/handcal//NONSGML v1.0//EN
CALSCALE:GREGORIAN
BEGIN:VEVENT
DTSTART:20250519T160000Z
DTEND:20250519T170000Z
UID:121988-opensimworld.com
DTSTAMP:20260424T035351Z
LOCATION:gbg-world.com:8002:La Isla Bonita
URL;VALUE=URI: http://opensimworld.com/event/121988
SUMMARY:Dj Cloey 9am at THE PIER GBG METAVERSE hop://gbg-world.com:8002/The%20Pier/196/135/24
END:VEVENT
END:VCALENDAR