BEGIN:VCALENDAR
VERSION:2.0
PRODID:-//hacksw/handcal//NONSGML v1.0//EN
CALSCALE:GREGORIAN
BEGIN:VEVENT
DTSTART:20250527T010000Z
DTEND:20250527T020000Z
UID:121985-opensimworld.com
DTSTAMP:20260423T055716Z
LOCATION:wyldwoodbayou.com:8002:Wyldwood Bayou Hot Daddys
URL;VALUE=URI: http://opensimworld.com/event/121985
SUMMARY:DJ Kith Lights Up the Dock with EDM at Hot Daddy\'s tonight at 6PM!
END:VEVENT
END:VCALENDAR