BEGIN:VCALENDAR
VERSION:2.0
PRODID:-//hacksw/handcal//NONSGML v1.0//EN
CALSCALE:GREGORIAN
BEGIN:VEVENT
DTSTART:20250515T230000Z
DTEND:20250516T000000Z
UID:121716-opensimworld.com
DTSTAMP:20260423T183629Z
LOCATION:pangeagrid.de:8002:inspiring bombshell club
URL;VALUE=URI: http://opensimworld.com/event/121716
SUMMARY:2 amazing live singers
END:VEVENT
END:VCALENDAR