BEGIN:VCALENDAR
VERSION:2.0
PRODID:-//hacksw/handcal//NONSGML v1.0//EN
CALSCALE:GREGORIAN
BEGIN:VEVENT
DTSTART:20250425T143000Z
DTEND:20250425T153000Z
UID:120890-opensimworld.com
DTSTAMP:20260419T180418Z
LOCATION:lfgrid.com:8002:Parsons Creek
URL;VALUE=URI: http://opensimworld.com/event/120890
SUMMARY:Greedy Social at Parsons Creek
END:VEVENT
END:VCALENDAR