BEGIN:VCALENDAR
VERSION:2.0
PRODID:-//hacksw/handcal//NONSGML v1.0//EN
CALSCALE:GREGORIAN
BEGIN:VEVENT
DTSTART:20250422T080000Z
DTEND:20250422T090000Z
UID:120707-opensimworld.com
DTSTAMP:20260419T224513Z
LOCATION:alternatemetaverse.com:8002:Alternate Metaverse
URL;VALUE=URI: http://opensimworld.com/event/120707
SUMMARY:DJ DEBBIE PHEONIX THE MOONLIGHT PARTY @ Alternate Metaverse- AMV\'s New Landing!
END:VEVENT
END:VCALENDAR