BEGIN:VCALENDAR
VERSION:2.0
PRODID:-//hacksw/handcal//NONSGML v1.0//EN
CALSCALE:GREGORIAN
BEGIN:VEVENT
DTSTART:20250422T183000Z
DTEND:20250422T193000Z
UID:120633-opensimworld.com
DTSTAMP:20260422T155352Z
LOCATION:bloodmoonpack.com:8002:Event Beach Club
URL;VALUE=URI: http://opensimworld.com/event/120633
SUMMARY:Dance Party Vlad on the decks 
END:VEVENT
END:VCALENDAR