BEGIN:VCALENDAR
VERSION:2.0
PRODID:-//hacksw/handcal//NONSGML v1.0//EN
CALSCALE:GREGORIAN
BEGIN:VEVENT
DTSTART:20250418T140000Z
DTEND:20250418T150000Z
UID:120604-opensimworld.com
DTSTAMP:20260419T180420Z
LOCATION:lfgrid.com:8002:Parsons Creek
URL;VALUE=URI: http://opensimworld.com/event/120604
SUMMARY:PARSONS CREEK - GREEDY SOCIAL
END:VEVENT
END:VCALENDAR