BEGIN:VCALENDAR
VERSION:2.0
PRODID:-//hacksw/handcal//NONSGML v1.0//EN
CALSCALE:GREGORIAN
BEGIN:VEVENT
DTSTART:20250417T140000Z
DTEND:20250417T150000Z
UID:120603-opensimworld.com
DTSTAMP:20260419T180418Z
LOCATION:lfgrid.com:8002:Parsons Creek
URL;VALUE=URI: http://opensimworld.com/event/120603
SUMMARY:GREEDY SOCIAL - PARSONS CREEK
END:VEVENT
END:VCALENDAR