BEGIN:VCALENDAR
VERSION:2.0
PRODID:-//hacksw/handcal//NONSGML v1.0//EN
CALSCALE:GREGORIAN
BEGIN:VEVENT
DTSTART:20250415T210000Z
DTEND:20250415T220000Z
UID:120581-opensimworld.com
DTSTAMP:20260419T180418Z
LOCATION:lfgrid.com:8002:Parsons Creek
URL;VALUE=URI: http://opensimworld.com/event/120581
SUMMARY:Brisas Ar
END:VEVENT
END:VCALENDAR