BEGIN:VCALENDAR
VERSION:2.0
PRODID:-//hacksw/handcal//NONSGML v1.0//EN
CALSCALE:GREGORIAN
BEGIN:VEVENT
DTSTART:20250415T190000Z
DTEND:20250415T200000Z
UID:120578-opensimworld.com
DTSTAMP:20260419T180418Z
LOCATION:lfgrid.com:8002:Parsons Creek
URL;VALUE=URI: http://opensimworld.com/event/120578
SUMMARY:Lisbitt Malaga LIVE at Parsons Creek
END:VEVENT
END:VCALENDAR