BEGIN:VCALENDAR
VERSION:2.0
PRODID:-//hacksw/handcal//NONSGML v1.0//EN
CALSCALE:GREGORIAN
BEGIN:VEVENT
DTSTART:20250429T010000Z
DTEND:20250429T020000Z
UID:120354-opensimworld.com
DTSTAMP:20260423T055709Z
LOCATION:wyldwoodbayou.com:8002:Wyldwood Bayou Hot Daddys
URL;VALUE=URI: http://opensimworld.com/event/120354
SUMMARY:DJ Kith Rocks the Dock with classic tunes from the 60s and 70s tonight at Hot Daddy’s!
END:VEVENT
END:VCALENDAR