BEGIN:VCALENDAR
VERSION:2.0
PRODID:-//hacksw/handcal//NONSGML v1.0//EN
CALSCALE:GREGORIAN
BEGIN:VEVENT
DTSTART:20250403T230000Z
DTEND:20250404T000000Z
UID:120098-opensimworld.com
DTSTAMP:20260423T183650Z
LOCATION:pangeagrid.de:8002:inspiring bombshell club
URL;VALUE=URI: http://opensimworld.com/event/120098
SUMMARY:two amazing live singers
END:VEVENT
END:VCALENDAR