BEGIN:VCALENDAR
VERSION:2.0
PRODID:-//hacksw/handcal//NONSGML v1.0//EN
CALSCALE:GREGORIAN
BEGIN:VEVENT
DTSTART:20250329T020000Z
DTEND:20250329T030000Z
UID:119892-opensimworld.com
DTSTAMP:20260424T040506Z
LOCATION:login3.virtualrbm.com.br:8002:Bio Hazard
URL;VALUE=URI: http://opensimworld.com/event/119892
SUMMARY:Old West
END:VEVENT
END:VCALENDAR