BEGIN:VCALENDAR
VERSION:2.0
PRODID:-//hacksw/handcal//NONSGML v1.0//EN
CALSCALE:GREGORIAN
BEGIN:VEVENT
DTSTART:20250322T210000Z
DTEND:20250322T220000Z
UID:119726-opensimworld.com
DTSTAMP:20260419T180418Z
LOCATION:lfgrid.com:8002:Parsons Creek
URL;VALUE=URI: http://opensimworld.com/event/119726
SUMMARY:MOONSTAR LIVE TODAY!
END:VEVENT
END:VCALENDAR