BEGIN:VCALENDAR
VERSION:2.0
PRODID:-//hacksw/handcal//NONSGML v1.0//EN
CALSCALE:GREGORIAN
BEGIN:VEVENT
DTSTART:20250313T230000Z
DTEND:20250314T000000Z
UID:119387-opensimworld.com
DTSTAMP:20260423T183520Z
LOCATION:pangeagrid.de:8002:inspiring bombshell club
URL;VALUE=URI: http://opensimworld.com/event/119387
SUMMARY:two amazing live singers
END:VEVENT
END:VCALENDAR