BEGIN:VCALENDAR
VERSION:2.0
PRODID:-//hacksw/handcal//NONSGML v1.0//EN
CALSCALE:GREGORIAN
BEGIN:VEVENT
DTSTART:20250308T230000Z
DTEND:20250309T000000Z
UID:119156-opensimworld.com
DTSTAMP:20260419T180419Z
LOCATION:lfgrid.com:8002:Parsons Creek
URL;VALUE=URI: http://opensimworld.com/event/119156
SUMMARY:Rogue LIVE at Parsons Creek!
END:VEVENT
END:VCALENDAR