BEGIN:VCALENDAR
VERSION:2.0
PRODID:-//hacksw/handcal//NONSGML v1.0//EN
CALSCALE:GREGORIAN
BEGIN:VEVENT
DTSTART:20250308T220000Z
DTEND:20250308T230000Z
UID:119154-opensimworld.com
DTSTAMP:20260419T180420Z
LOCATION:lfgrid.com:8002:Parsons Creek
URL;VALUE=URI: http://opensimworld.com/event/119154
SUMMARY:Moonstar LIVE at Parsons Creek!
END:VEVENT
END:VCALENDAR