BEGIN:VCALENDAR
VERSION:2.0
PRODID:-//hacksw/handcal//NONSGML v1.0//EN
CALSCALE:GREGORIAN
BEGIN:VEVENT
DTSTART:20250228T161300Z
DTEND:20250228T171300Z
UID:118849-opensimworld.com
DTSTAMP:20260424T060028Z
LOCATION:login3.virtualrbm.com.br:8002:Bio Hazard
URL;VALUE=URI: http://opensimworld.com/event/118849
SUMMARY:Guarda roupa trocado
END:VEVENT
END:VCALENDAR