BEGIN:VCALENDAR
VERSION:2.0
PRODID:-//hacksw/handcal//NONSGML v1.0//EN
CALSCALE:GREGORIAN
BEGIN:VEVENT
DTSTART:20250227T230000Z
DTEND:20250228T000000Z
UID:118826-opensimworld.com
DTSTAMP:20260423T183627Z
LOCATION:pangeagrid.de:8002:inspiring bombshell club
URL;VALUE=URI: http://opensimworld.com/event/118826
SUMMARY:three live singers
END:VEVENT
END:VCALENDAR