BEGIN:VCALENDAR
VERSION:2.0
PRODID:-//hacksw/handcal//NONSGML v1.0//EN
CALSCALE:GREGORIAN
BEGIN:VEVENT
DTSTART:20250325T010000Z
DTEND:20250325T020000Z
UID:118729-opensimworld.com
DTSTAMP:20260423T055709Z
LOCATION:wyldwoodbayou.com:8002:Wyldwood Bayou Hot Daddys
URL;VALUE=URI: http://opensimworld.com/event/118729
SUMMARY:Let’s Rock the Dock with DJ Kith tonight at Hot Daddy’s 6-8PM!
END:VEVENT
END:VCALENDAR