BEGIN:VCALENDAR
VERSION:2.0
PRODID:-//hacksw/handcal//NONSGML v1.0//EN
CALSCALE:GREGORIAN
BEGIN:VEVENT
DTSTART:20250223T220000Z
DTEND:20250223T230000Z
UID:118485-opensimworld.com
DTSTAMP:20260419T180419Z
LOCATION:lfgrid.com:8002:Parsons Creek
URL;VALUE=URI: http://opensimworld.com/event/118485
SUMMARY:Evee Blackstar LIVE at Parsons Creek - Littlefield Grid
END:VEVENT
END:VCALENDAR