BEGIN:VCALENDAR
VERSION:2.0
PRODID:-//hacksw/handcal//NONSGML v1.0//EN
CALSCALE:GREGORIAN
BEGIN:VEVENT
DTSTART:20250215T190000Z
DTEND:20250215T200000Z
UID:118343-opensimworld.com
DTSTAMP:20260423T183646Z
LOCATION:adult-life.de:8002:Dark Dance
URL;VALUE=URI: http://opensimworld.com/event/118343
SUMMARY:Dance to the moon
END:VEVENT
END:VCALENDAR